BEGIN:VCALENDAR
VERSION:2.0
BEGIN:VEVENT
URL:https://rumblealberta.com/home/my-feed/events/viewevent/143-ride-for-vision-valour 
DTSTART:20260624T000000
DTEND:20260705T001500
SUMMARY:Ride for Vision & Valour
DESCRIPTION:<span><strong>What It Is</strong></span><div><br /><div>Ride for Vision & Valour is a multi-day motorcycle and motorized tourism event that brings riders together from across Canada to honour military service, support blind and visually impaired children, and celebrate the spirit of community and remembrance.</div><div><strong><br /></strong></div><div><strong>Mission</strong></div><div>To raise funds for the Military Police Fund for Blind Children while connecting communities, veterans, and riders through shared stories, history, and the open road.</div><div><br /></div><div><strong>What Makes It Special</strong></div><div>Purpose-Driven Riding: Every kilometre ridden supports children who are blind or visually impaired, providing them with life-changing programs, equipment, and opportunities.</div><div><br /></div><div><strong>Military Heritage Focus: </strong>The route includes stops at military memorials, museums, and historic sites across Western Canada, honouring those who served.</div><div><br /></div><div><strong>Community Connection: </strong>Riders meet veterans, hear their stories, and participate in commemorative ceremonies along the way.</div><div>Inclusive & Welcoming: Open to all motorized vehicles – motorcycles, trikes, side-by-sides, and more. Riders of all experience levels are welcome.</div><div><br /></div><div><strong>Key Details</strong></div><div><strong>When: </strong>Annually in late June (2026 date: June 23 – July 5)</div><div><strong>Where: </strong>Multi-day route across Alberta and beyond, with stops in Grande Prairie, Edmonton, Calgary, and historic military sites</div><div><strong>Organizer:</strong> Canadian Military Tourism Association (CMTA) and Veterans Memorial Gardens & Interpretive Centre</div><div><strong>Beneficiary:</strong> Military Police Fund for Blind Children</div><div><br /></div><div><strong>Why Ride With Us?</strong></div><div>✅ Make a difference – 100% of rider fees and fundraising go directly to blind children's programs</div><div><br /></div><div>✅ Honour veterans – Ride through history and pay tribute to those who served</div><div><br /></div><div>✅ Build community – Connect with like-minded riders and supporters across the country</div><div><br /></div><div>✅ Experience the journey – Scenic routes, meaningful stops, and unforgettable memories</div><div><br /></div><div><strong>Get Involved</strong></div><div><strong><br /></strong></div><div>Ride with us – Register as a rider or support vehicle</div><div>Sponsor the event – Business and individual sponsorship opportunities available</div><div>Volunteer – Help us make the ride a success</div><div>Spread the word – Share our mission and invite others to join</div><div><br /></div><div>Contact: Renee</div><div>Executive Director, CMTA & Veterans Memorial Gardens</div><div>(780) 933-0182</div><div><br /></div><div>exec.director@motorcycletourism.ca</div><div><br /></div><div>Ride for Vision & Valour – Where the road meets remembrance, and every mile matters.</div></div>
LOCATION:Veterans Memorial Gardens & Interpretive Centre 10121 93 St Grande Prairie AB T8V 1Y1
END:VEVENT
END:VCALENDAR