BEGIN:VCALENDAR
VERSION:2.0
BEGIN:VEVENT
URL:https://rumblealberta.com/home/my-feed/events/viewevent/147-run-to-the-hills-bike-week?pageid=18 
DTSTART:20260717T000000
DTEND:20260727T001500
SUMMARY:Run To The Hills Bike Week
DESCRIPTION:<p>Bike Week</p><p>10 days of fun! </p><p>Free Camping </p><p>Best bike rally in Western Canada</p><p>587-280-2455</p><p>runtothehillsrally@yahoo.ca</p>
LOCATION:Gelata Park Fairgrounds - Two Hills
END:VEVENT
END:VCALENDAR