BEGIN:VCALENDAR
VERSION:2.0
BEGIN:VEVENT
URL:https://rumblealberta.com/home/my-feed/events/viewevent/166-17th-annual-russell-barnes-memorial-show-shine 
DTSTART:20260620T000000
DTEND:20260620T001500
SUMMARY:17th Annual Russell Barnes Memorial Show & Shine
DESCRIPTION:<p>Join us on Main Street Delburne AB on Saturday June 20 2026 </p><p>Registration starts at 9am</p><p>Registration by donation</p><p>Trophies at 3</p><p>All proceeds go to local charities!</p><p>For more info call Ron Shaw 403-392-6064</p><p>- Silent Auction - Live Music - Food - Vendors - Numerous Trophy Classes</p><p>JOIN THE FUN</p>
LOCATION:Main Street Delburne AB
END:VEVENT
END:VCALENDAR