BEGIN:VCALENDAR
VERSION:2.0
BEGIN:VEVENT
URL:https://rumblealberta.com/home/my-feed/events/viewevent/96-northern-lights-rv-resort-fishing-derby?pageid=10 
DTSTART:20250215T110000
DTEND:20250215T171500
SUMMARY:Northern Lights RV Resort Fishing Derby
DESCRIPTION:Join us for a day of fishing at Mons Lake.   We'll have predrilled holes and we welcome you to bring your own food, tents, augers.   We will also be having Frybread Walleye burgers and a b-b-q available.   Non members of North Lights RV Resort are welcome to join, but please note that we wont be held responsible for any incidents.  We'll be dropping hooks at 11:00  and those leaving from the resort we are heading out at 10:00.  Please keep in mind that this is Family Day weekend, so depending on the weather there could be lots of people there. 
LOCATION:Mons Lake by Smoky Lake
END:VEVENT
END:VCALENDAR